{"text_format":"3","workbook":"xlsx","n_sheets":19,"sheets":["$$$Types","$$$INFO","$$Totals","Small Cents","$$$Logo","Large Cents","Two Cents","Three Cents","Nickels","Half Dimes","Dimes","Twenty Cents","Quarters","Half Dollars","Dollars","Other","Bank Rolls","Mint Sets","Silver Eagles"],"not_rendered":{"images":2,"macros":1,"defined_names":31},"read":"whole","date_system":"1900"}

{"sheet":"$$$Types","index":0,"n_rows":15,"n_cols":11,"rows_kept":15,"hidden":true}
["Small Cents","Large Cents","Two Cents","Three Cents","Nickels","Half Dimes","Dimes","Quarters","Half Dollars","Dollars","Mints"]
["Flying Eagle","Liberty Cap","Large Motto","Silver","Shield","Flowing Hair","Draped Bust","Draped Bust","Flowing Hair","Flowing Hair","C - Charlotte"]
["Indian Head","Draped Bust","Small Motto","Nickel","Liberty Head","Draped Bust","Capped Bust","Capped Bust","Draped Bust","Draped Bust","CC - Carson City"]
["Wheat Ears","Classic Head",null,null,"Buffalo","Capped Bust","Liberty Seated","Liberty Seated","Capped Bust","1804 Dollar","D - Dahlonega"]
["Lincoln Memorial","Liberty Head",null,null,"Jefferson","Liberty Seated","Barber","Liberty Head","Liberty Seated","Gobrecht","D - Denver"]
["Lincoln Bicentenial","Matron Head",null,null,"Wartime Silver",null,"Mercury","Standing Liberty","Liberty Head","Liberty Seated","O - New Orleans"]
["Lincoln Shield","Braided Hair",null,null,"Westward",null,"Roosevelt","Washington","Liberty Walking","Trade","   - Philadelphia"]
[{"$nulls":4},"Big Head",null,null,"Bicenennial","Franklin","Morgan","P - Philadelphia"]
[{"$nulls":7},"Statehood","Kennedy","Peace","S - San Francisco"]
[{"$nulls":7},"National Parks","Bicentennial","Eisenhower","W - West Point"]
[{"$nulls":9},"Bicentennial","Unknown"]
[{"$nulls":9},"Susan B. Anthony","Mixed"]
[{"$nulls":9},"Sacagawea"]
[{"$nulls":9},"Native American"]
[{"$nulls":9},"Presidential"]

{"sheet":"$$$INFO","index":1,"n_rows":22,"n_cols":1,"rows_kept":22,"merged":[[0,0,0,8],[2,0,2,9],[3,0,3,9],[4,0,4,9]]}
["Coin Collection Data Sheets"]
[]
["This spreadsheet has been created to allow for a coin collection to be inventoried for things like"]
["insurance claims, Wills and Probates, etc. It is not intended to allow for individual coins to be"]
["specifically catalogued and it makes no specific facility for specifying grade. However, the COMMENT"]
["field could easily be used for this purpose."]
[]
["You should not need to change the $$$TOTALS page as it should automatically update based on the "]
["values on the coins sheets."]
[]
["You can add coins in any order as there is a totally safe sort facility included in the spreadsheet."]
["This can be invoked by pressing CTRL+s on whilst on the sheet. The macro will sort the coins based "]
["year and then mint."]
[]
["The \"Rolls\", \"Others\" and \"Mint\" sheets are more free form than the other sheets to enable you to"]
["put coins in from other countrys, bank rolled coins and collectible mint sets."]
[]
["If you wish to re-populate the \"Type\" Field drop down menu then clicking on the heading will achieve this."]
[]
["The various descriptions for each coin type are kept on the hidden $$$Types spreadsheet. To add"]
["or change any of these values you will have to unhide the sheet and make the changes, then click the"]
["\"Type\" heading box."]

{"sheet":"$$Totals","index":2,"n_rows":18,"n_cols":4,"rows_kept":18}
["Coin Type","Face Value\nTotal","Book Value\nTotal","Coin\nTotal"]
["Small Cents",{"$f":"'Small Cents'!K5","v":{"v":0,"d":"$0.00"}},{"$f":"'Small Cents'!K10","v":{"v":0,"d":"$0.00"}},{"$f":"SmallTotal","v":0}]
["Large Cents",{"$f":"'Large Cents'!K5","v":{"v":0,"d":"$0.00"}},{"$f":"'Large Cents'!K10","v":{"v":0,"d":"$0.00"}},{"$f":"LargeTotal","v":0}]
["Two Cents",{"$f":"'Two Cents'!K5","v":{"v":0,"d":"$0.00"}},{"$f":"'Two Cents'!K10","v":{"v":0,"d":"$0.00"}},{"$f":"TwoTotal","v":0}]
["Three Cents",{"$f":"'Three Cents'!K5","v":{"v":0,"d":"$0.00"}},{"$f":"'Three Cents'!K10","v":{"v":0,"d":"$0.00"}},{"$f":"ThreeTotal","v":0}]
["Nickels",{"$f":"Nickels!K5","v":{"v":0,"d":"$0.00"}},{"$f":"Nickels!K10","v":{"v":0,"d":"$0.00"}},{"$f":"NickelTotal","v":0}]
["Half Dime",{"$f":"'Half Dimes'!K5","v":{"v":0,"d":"$0.00"}},{"$f":"'Half Dimes'!K10","v":{"v":0,"d":"$0.00"}},{"$f":"HalfDimeTotal","v":0}]
["Dime",{"$f":"Dimes!K5","v":{"v":0,"d":"$0.00"}},{"$f":"Dimes!K10","v":{"v":0,"d":"$0.00"}},{"$f":"DimeTotal","v":0}]
["Twenty Cents",{"$f":"'Twenty Cents'!K5","v":{"v":0,"d":"$0.00"}},{"$f":"'Twenty Cents'!K10","v":{"v":0,"d":"$0.00"}},{"$f":"TwentyTotal","v":0}]
["Quarters",{"$f":"Quarters!K5","v":{"v":0,"d":"$0.00"}},{"$f":"Quarters!K10","v":{"v":0,"d":"$0.00"}},{"$f":"QuarterTotal","v":0}]
["Half Dollar",{"$f":"'Half Dollars'!K5","v":{"v":0,"d":"$0.00"}},{"$f":"'Half Dollars'!K10","v":{"v":0,"d":"$0.00"}},{"$f":"HalfTotal","v":0}]
["Dollar",{"$f":"Dollars!K5","v":{"v":0,"d":"$0.00"}},{"$f":"Dollars!K10","v":{"v":0,"d":"$0.00"}},{"$f":"DollarTotal","v":0}]
["Others",{"$f":"Other!K5","v":{"v":0,"d":"$0.00"}},{"$f":"Other!K10","v":{"v":0,"d":"$0.00"}},{"$f":"OtherTotal","v":0}]
["Bank Rolls",{"$f":"'Bank Rolls'!K5","v":{"v":0,"d":"$0.00"}},{"$f":"'Bank Rolls'!K10","v":{"v":0,"d":"$0.00"}},{"$f":"BankTotal","v":0}]
["Mint Sets",{"$f":"'Mint Sets'!K5","v":{"v":0,"d":"$0.00"}},{"$f":"'Mint Sets'!K10","v":{"v":0,"d":"$0.00"}},{"$f":"MintTotal","v":0}]
["Silver Eagles",{"$f":"'Silver Eagles'!K5","v":{"v":0,"d":"$0.00"}},{"$f":"'Silver Eagles'!K10","v":{"v":0,"d":"$0.00"}},{"$f":"EagleTotal","v":0}]
[]
["Grand Totals",{"$f":"SUM(B2:B13)","v":{"v":0,"d":"$0.00"}},{"$f":"SUM(C2:C13)","v":{"v":0,"d":"$0.00"}},{"$f":"SUM(D2:D13)","v":0}]

{"sheet":"Small Cents","index":3,"n_rows":12,"n_cols":11,"rows_kept":12,"merged":[[2,10,3,11],[4,10,5,11],[7,10,8,11],[9,10,10,11]]}
["Year","Mint","Type","Comment","Face Value","Count","Total","Book Value","Total"]
[{"$nulls":4},{"v":0.01,"d":"$0.01"},null,{"$f":"SUM(E2*F2)","v":{"v":0,"d":"$0.00"}},null,{"$f":"SUM(H2*F2)","v":{"v":0,"d":"$0.00"}}]
[{"$nulls":4},{"v":0.01,"d":"$0.01"},null,{"v":0,"d":"$0.00"},null,{"v":0,"d":"$0.00"},null,"Face Value\nTotals"]
[{"$nulls":4},{"v":0.01,"d":"$0.01"},null,{"v":0,"d":"$0.00"},null,{"v":0,"d":"$0.00"}]
[{"$nulls":4},{"v":0.01,"d":"$0.01"},null,{"v":0,"d":"$0.00"},null,{"v":0,"d":"$0.00"},null,{"$f":"SUM(G2:G11)","v":{"v":0,"d":"$0.00"}}]
[{"$nulls":4},{"v":0.01,"d":"$0.01"},null,{"v":0,"d":"$0.00"},null,{"v":0,"d":"$0.00"}]
[{"$nulls":4},{"v":0.01,"d":"$0.01"},null,{"v":0,"d":"$0.00"},null,{"v":0,"d":"$0.00"}]
[{"$nulls":4},{"v":0.01,"d":"$0.01"},null,{"v":0,"d":"$0.00"},null,{"v":0,"d":"$0.00"},null,"Book Value\nTotal"]
[{"$nulls":4},{"v":0.01,"d":"$0.01"},null,{"v":0,"d":"$0.00"},null,{"v":0,"d":"$0.00"}]
[{"$nulls":4},{"v":0.01,"d":"$0.01"},null,{"v":0,"d":"$0.00"},null,{"v":0,"d":"$0.00"},null,{"$f":"SUM(I2:I11)","v":{"v":0,"d":"$0.00"}}]
[{"$nulls":4},{"v":0.01,"d":"$0.01"},null,{"v":0,"d":"$0.00"},null,{"v":0,"d":"$0.00"}]
[{"$nulls":5},{"$f":"SUM(F2:F11)","v":0}]

{"sheet":"$$$Logo","index":4,"n_rows":0,"n_cols":0,"rows_kept":0,"hidden":true}

{"sheet":"Large Cents","index":5,"n_rows":12,"n_cols":11,"rows_kept":12,"merged":[[2,10,3,11],[4,10,5,11],[7,10,8,11],[9,10,10,11]]}
["Year","Mint","Type","Comment","Face Value","Count","Total","Book Value","Total"]
[{"$nulls":4},{"v":0.01,"d":"$0.01"},null,{"$f":"SUM(E2*F2)","v":{"v":0,"d":"$0.00"}},null,{"$f":"SUM(H2*F2)","v":{"v":0,"d":"$0.00"}}]
[{"$nulls":4},{"v":0.01,"d":"$0.01"},null,{"$f":"SUM(E3*F3)","v":{"v":0,"d":"$0.00"}},null,{"$f":"SUM(H3*F3)","v":{"v":0,"d":"$0.00"}},null,"Face Value\nTotals"]
[{"$nulls":4},{"v":0.01,"d":"$0.01"},null,{"v":0,"d":"$0.00"},null,{"v":0,"d":"$0.00"}]
[{"$nulls":4},{"v":0.01,"d":"$0.01"},null,{"$f":"SUM(E5*F5)","v":{"v":0,"d":"$0.00"}},null,{"v":0,"d":"$0.00"},null,{"$f":"SUM(G2:G11)","v":{"v":0,"d":"$0.00"}}]
[{"$nulls":4},{"v":0.01,"d":"$0.01"},null,{"v":0,"d":"$0.00"},null,{"v":0,"d":"$0.00"}]
[{"$nulls":4},{"v":0.01,"d":"$0.01"},null,{"v":0,"d":"$0.00"},null,{"v":0,"d":"$0.00"}]
[{"$nulls":4},{"v":0.01,"d":"$0.01"},null,{"v":0,"d":"$0.00"},null,{"v":0,"d":"$0.00"},null,"Book Value\nTotal"]
[{"$nulls":4},{"v":0.01,"d":"$0.01"},null,{"v":0,"d":"$0.00"},null,{"v":0,"d":"$0.00"}]
[{"$nulls":4},{"v":0.01,"d":"$0.01"},null,{"v":0,"d":"$0.00"},null,{"v":0,"d":"$0.00"},null,{"$f":"SUM(I2:I11)","v":{"v":0,"d":"$0.00"}}]
[{"$nulls":4},{"v":0.01,"d":"$0.01"},null,{"v":0,"d":"$0.00"},null,{"v":0,"d":"$0.00"}]
[{"$nulls":5},{"$f":"SUM(F2:F11)","v":0}]

{"sheet":"Two Cents","index":6,"n_rows":12,"n_cols":11,"rows_kept":12,"merged":[[2,10,3,11],[4,10,5,11],[7,10,8,11],[9,10,10,11]]}
["Year","Mint","Type","Comment","Face Value","Count","Total","Book Value","Total"]
[{"$nulls":4},{"v":0.02,"d":"$0.02"},null,{"$f":"SUM(E2*F2)","v":{"v":0,"d":"$0.00"}},null,{"$f":"SUM(H2*F2)","v":{"v":0,"d":"$0.00"}}]
[{"$nulls":4},{"v":0.02,"d":"$0.02"},null,{"$f":"SUM(E3*F3)","v":{"v":0,"d":"$0.00"}},null,{"$f":"SUM(H3*F3)","v":{"v":0,"d":"$0.00"}},null,"Face Value\nTotals"]
[{"$nulls":4},{"v":0.02,"d":"$0.02"},null,{"v":0,"d":"$0.00"},null,{"v":0,"d":"$0.00"}]
[{"$nulls":4},{"v":0.02,"d":"$0.02"},null,{"$f":"SUM(E5*F5)","v":{"v":0,"d":"$0.00"}},null,{"v":0,"d":"$0.00"},null,{"$f":"SUM(G2:G11)","v":{"v":0,"d":"$0.00"}}]
[{"$nulls":4},{"v":0.02,"d":"$0.02"},null,{"v":0,"d":"$0.00"},null,{"v":0,"d":"$0.00"}]
[{"$nulls":4},{"v":0.02,"d":"$0.02"},null,{"v":0,"d":"$0.00"},null,{"v":0,"d":"$0.00"}]
[{"$nulls":4},{"v":0.02,"d":"$0.02"},null,{"v":0,"d":"$0.00"},null,{"v":0,"d":"$0.00"},null,"Book Value\nTotal"]
[{"$nulls":4},{"v":0.02,"d":"$0.02"},null,{"v":0,"d":"$0.00"},null,{"v":0,"d":"$0.00"}]
[{"$nulls":4},{"v":0.02,"d":"$0.02"},null,{"v":0,"d":"$0.00"},null,{"v":0,"d":"$0.00"},null,{"$f":"SUM(I2:I11)","v":{"v":0,"d":"$0.00"}}]
[{"$nulls":4},{"v":0.02,"d":"$0.02"},null,{"v":0,"d":"$0.00"},null,{"v":0,"d":"$0.00"}]
[{"$nulls":5},{"$f":"SUM(F2:F11)","v":0}]

{"sheet":"Three Cents","index":7,"n_rows":12,"n_cols":11,"rows_kept":12,"merged":[[2,10,3,11],[4,10,5,11],[7,10,8,11],[9,10,10,11]]}
["Year","Mint","Type","Comment","Face Value","Count","Total","Book Value","Total"]
[{"$nulls":4},{"v":0.03,"d":"$0.03"},null,{"$f":"SUM(E2*F2)","v":{"v":0,"d":"$0.00"}},null,{"$f":"SUM(H2*F2)","v":{"v":0,"d":"$0.00"}}]
[{"$nulls":4},{"v":0.03,"d":"$0.03"},null,{"$f":"SUM(E3*F3)","v":{"v":0,"d":"$0.00"}},null,{"$f":"SUM(H3*F3)","v":{"v":0,"d":"$0.00"}},null,"Face Value\nTotals"]
[{"$nulls":4},{"v":0.03,"d":"$0.03"},null,{"v":0,"d":"$0.00"},null,{"v":0,"d":"$0.00"}]
[{"$nulls":4},{"v":0.03,"d":"$0.03"},null,{"v":0,"d":"$0.00"},null,{"v":0,"d":"$0.00"},null,{"$f":"SUM(G2:G11)","v":{"v":0,"d":"$0.00"}}]
[{"$nulls":4},{"v":0.03,"d":"$0.03"},null,{"v":0,"d":"$0.00"},null,{"v":0,"d":"$0.00"}]
[{"$nulls":4},{"v":0.03,"d":"$0.03"},null,{"v":0,"d":"$0.00"},null,{"v":0,"d":"$0.00"}]
[{"$nulls":4},{"v":0.03,"d":"$0.03"},null,{"v":0,"d":"$0.00"},null,{"v":0,"d":"$0.00"},null,"Book Value\nTotal"]
[{"$nulls":4},{"v":0.03,"d":"$0.03"},null,{"v":0,"d":"$0.00"},null,{"v":0,"d":"$0.00"}]
[{"$nulls":4},{"v":0.03,"d":"$0.03"},null,{"v":0,"d":"$0.00"},null,{"v":0,"d":"$0.00"},null,{"$f":"SUM(I2:I11)","v":{"v":0,"d":"$0.00"}}]
[{"$nulls":4},{"v":0.03,"d":"$0.03"},null,{"v":0,"d":"$0.00"},null,{"v":0,"d":"$0.00"}]
[{"$nulls":5},{"$f":"SUM(F2:F11)","v":0}]

{"sheet":"Nickels","index":8,"n_rows":12,"n_cols":11,"rows_kept":12,"merged":[[2,10,3,11],[4,10,5,11],[7,10,8,11],[9,10,10,11]]}
["Year","Mint","Type","Comment","Face Value","Count","Total","Book Value","Total"]
[{"$nulls":4},{"v":0.05,"d":"$0.05"},null,{"$f":"SUM(E2*F2)","v":{"v":0,"d":"$0.00"}},null,{"$f":"SUM(H2*F2)","v":{"v":0,"d":"$0.00"}}]
[{"$nulls":4},{"v":0.05,"d":"$0.05"},null,{"v":0,"d":"$0.00"},null,{"v":0,"d":"$0.00"},null,"Face Value\nTotals"]
[{"$nulls":4},{"v":0.05,"d":"$0.05"},null,{"v":0,"d":"$0.00"},null,{"v":0,"d":"$0.00"}]
[{"$nulls":4},{"v":0.05,"d":"$0.05"},null,{"v":0,"d":"$0.00"},null,{"v":0,"d":"$0.00"},null,{"$f":"SUM(G2:G11)","v":{"v":0,"d":"$0.00"}}]
[{"$nulls":4},{"v":0.05,"d":"$0.05"},null,{"v":0,"d":"$0.00"},null,{"v":0,"d":"$0.00"}]
[{"$nulls":4},{"v":0.05,"d":"$0.05"},null,{"v":0,"d":"$0.00"},null,{"v":0,"d":"$0.00"}]
[{"$nulls":4},{"v":0.05,"d":"$0.05"},null,{"v":0,"d":"$0.00"},null,{"v":0,"d":"$0.00"},null,"Book Value\nTotal"]
[{"$nulls":4},{"v":0.05,"d":"$0.05"},null,{"v":0,"d":"$0.00"},null,{"v":0,"d":"$0.00"}]
[{"$nulls":4},{"v":0.05,"d":"$0.05"},null,{"v":0,"d":"$0.00"},null,{"v":0,"d":"$0.00"},null,{"$f":"SUM(I2:I11)","v":{"v":0,"d":"$0.00"}}]
[{"$nulls":4},{"v":0.05,"d":"$0.05"},null,{"v":0,"d":"$0.00"},null,{"v":0,"d":"$0.00"}]
[{"$nulls":5},{"$f":"SUM(F2:F11)","v":0}]

{"sheet":"Half Dimes","index":9,"n_rows":12,"n_cols":11,"rows_kept":12,"merged":[[2,10,3,11],[4,10,5,11],[7,10,8,11],[9,10,10,11]]}
["Year","Mint","Type","Comment","Face Value","Count","Total","Book Value","Total"]
[{"$nulls":4},{"v":0.05,"d":"$0.05"},null,{"$f":"SUM(E2*F2)","v":{"v":0,"d":"$0.00"}},null,{"$f":"SUM(H2*F2)","v":{"v":0,"d":"$0.00"}}]
[{"$nulls":4},{"v":0.05,"d":"$0.05"},null,{"$f":"SUM(E3*F3)","v":{"v":0,"d":"$0.00"}},null,{"$f":"SUM(H3*F3)","v":{"v":0,"d":"$0.00"}},null,"Face Value\nTotals"]
[{"$nulls":4},{"v":0.05,"d":"$0.05"},null,{"v":0,"d":"$0.00"},null,{"v":0,"d":"$0.00"}]
[{"$nulls":4},{"v":0.05,"d":"$0.05"},null,{"v":0,"d":"$0.00"},null,{"v":0,"d":"$0.00"},null,{"$f":"SUM(G2:G11)","v":{"v":0,"d":"$0.00"}}]
[{"$nulls":4},{"v":0.05,"d":"$0.05"},null,{"v":0,"d":"$0.00"},null,{"v":0,"d":"$0.00"}]
[{"$nulls":4},{"v":0.05,"d":"$0.05"},null,{"v":0,"d":"$0.00"},null,{"v":0,"d":"$0.00"}]
[{"$nulls":4},{"v":0.05,"d":"$0.05"},null,{"v":0,"d":"$0.00"},null,{"v":0,"d":"$0.00"},null,"Book Value\nTotal"]
[{"$nulls":4},{"v":0.05,"d":"$0.05"},null,{"v":0,"d":"$0.00"},null,{"v":0,"d":"$0.00"}]
[{"$nulls":4},{"v":0.05,"d":"$0.05"},null,{"v":0,"d":"$0.00"},null,{"v":0,"d":"$0.00"},null,{"$f":"SUM(I2:I11)","v":{"v":0,"d":"$0.00"}}]
[{"$nulls":4},{"v":0.05,"d":"$0.05"},null,{"v":0,"d":"$0.00"},null,{"v":0,"d":"$0.00"}]
[{"$nulls":5},{"$f":"SUM(F2:F11)","v":0}]

{"sheet":"Dimes","index":10,"n_rows":12,"n_cols":11,"rows_kept":12,"merged":[[2,10,3,11],[4,10,5,11],[7,10,8,11],[9,10,10,11]]}
["Year","Mint","Type","Comment","Face Value","Count","Total","Book Value","Total"]
[{"$nulls":4},{"v":0.1,"d":"$0.10"},null,{"$f":"SUM(E2*F2)","v":{"v":0,"d":"$0.00"}},null,{"$f":"SUM(H2*F2)","v":{"v":0,"d":"$0.00"}}]
[{"$nulls":4},{"v":0.1,"d":"$0.10"},null,{"v":0,"d":"$0.00"},null,{"$f":"SUM(H3*F3)","v":{"v":0,"d":"$0.00"}},null,"Face Value\nTotals"]
[{"$nulls":4},{"v":0.1,"d":"$0.10"},null,{"v":0,"d":"$0.00"},null,{"v":0,"d":"$0.00"}]
[{"$nulls":4},{"v":0.1,"d":"$0.10"},null,{"v":0,"d":"$0.00"},null,{"v":0,"d":"$0.00"},null,{"$f":"SUM(G2:G11)","v":{"v":0,"d":"$0.00"}}]
[{"$nulls":4},{"v":0.1,"d":"$0.10"},null,{"v":0,"d":"$0.00"},null,{"v":0,"d":"$0.00"}]
[{"$nulls":4},{"v":0.1,"d":"$0.10"},null,{"v":0,"d":"$0.00"},null,{"v":0,"d":"$0.00"}]
[{"$nulls":4},{"v":0.1,"d":"$0.10"},null,{"v":0,"d":"$0.00"},null,{"v":0,"d":"$0.00"},null,"Book Value\nTotal"]
[{"$nulls":4},{"v":0.1,"d":"$0.10"},null,{"v":0,"d":"$0.00"},null,{"v":0,"d":"$0.00"}]
[{"$nulls":4},{"v":0.1,"d":"$0.10"},null,{"v":0,"d":"$0.00"},null,{"v":0,"d":"$0.00"},null,{"$f":"SUM(I2:I11)","v":{"v":0,"d":"$0.00"}}]
[{"$nulls":4},{"v":0.1,"d":"$0.10"},null,{"v":0,"d":"$0.00"},null,{"v":0,"d":"$0.00"}]
[{"$nulls":5},{"$f":"SUM(F2:F11)","v":0}]

{"sheet":"Twenty Cents","index":11,"n_rows":12,"n_cols":11,"rows_kept":12,"merged":[[2,10,3,11],[4,10,5,11],[7,10,8,11],[9,10,10,11]]}
["Year","Mint","Type","Comment","Face Value","Count","Total","Book Value","Total"]
[null,null,"Liberty Seated",null,{"v":0.2,"d":"$0.20"},null,{"$f":"SUM(E2*F2)","v":{"v":0,"d":"$0.00"}},null,{"$f":"SUM(H2*F2)","v":{"v":0,"d":"$0.00"}}]
[null,null,"Liberty Seated",null,{"v":0.2,"d":"$0.20"},null,{"$f":"SUM(E3*F3)","v":{"v":0,"d":"$0.00"}},null,{"$f":"SUM(H3*F3)","v":{"v":0,"d":"$0.00"}},null,"Face Value\nTotals"]
[null,null,"Liberty Seated",null,{"v":0.2,"d":"$0.20"},null,{"$f":"SUM(E4*F4)","v":{"v":0,"d":"$0.00"}},null,{"v":0,"d":"$0.00"}]
[null,null,"Liberty Seated",null,{"v":0.2,"d":"$0.20"},null,{"$f":"SUM(E5*F5)","v":{"v":0,"d":"$0.00"}},null,{"v":0,"d":"$0.00"},null,{"$f":"SUM(G2:G11)","v":{"v":0,"d":"$0.00"}}]
[null,null,"Liberty Seated",null,{"v":0.2,"d":"$0.20"},null,{"v":0,"d":"$0.00"},null,{"v":0,"d":"$0.00"}]
[null,null,"Liberty Seated",null,{"v":0.2,"d":"$0.20"},null,{"v":0,"d":"$0.00"},null,{"v":0,"d":"$0.00"}]
[null,null,"Liberty Seated",null,{"v":0.2,"d":"$0.20"},null,{"v":0,"d":"$0.00"},null,{"v":0,"d":"$0.00"},null,"Book Value\nTotal"]
[null,null,"Liberty Seated",null,{"v":0.2,"d":"$0.20"},null,{"v":0,"d":"$0.00"},null,{"v":0,"d":"$0.00"}]
[null,null,"Liberty Seated",null,{"v":0.2,"d":"$0.20"},null,{"v":0,"d":"$0.00"},null,{"v":0,"d":"$0.00"},null,{"$f":"SUM(I2:I11)","v":{"v":0,"d":"$0.00"}}]
[null,null,"Liberty Seated",null,{"v":0.2,"d":"$0.20"},null,{"v":0,"d":"$0.00"},null,{"v":0,"d":"$0.00"}]
[{"$nulls":5},{"$f":"SUM(F2:F11)","v":0}]

{"sheet":"Quarters","index":12,"n_rows":12,"n_cols":11,"rows_kept":12,"merged":[[2,10,3,11],[4,10,5,11],[7,10,8,11],[9,10,10,11]]}
["Year","Mint","Type","Comment","Face Value","Count","Total","Book Value","Total"]
[{"$nulls":4},{"v":0.25,"d":"$0.25"},null,{"$f":"SUM(E2*F2)","v":{"v":0,"d":"$0.00"}},null,{"$f":"SUM(H2*F2)","v":{"v":0,"d":"$0.00"}}]
[{"$nulls":4},{"v":0.25,"d":"$0.25"},null,{"$f":"SUM(E3*F3)","v":{"v":0,"d":"$0.00"}},null,{"$f":"SUM(H3*F3)","v":{"v":0,"d":"$0.00"}},null,"Face Value\nTotals"]
[{"$nulls":4},{"v":0.25,"d":"$0.25"},null,{"v":0,"d":"$0.00"},null,{"v":0,"d":"$0.00"}]
[{"$nulls":4},{"v":0.25,"d":"$0.25"},null,{"v":0,"d":"$0.00"},null,{"v":0,"d":"$0.00"},null,{"$f":"SUM(G2:G11)","v":{"v":0,"d":"$0.00"}}]
[{"$nulls":4},{"v":0.25,"d":"$0.25"},null,{"v":0,"d":"$0.00"},null,{"v":0,"d":"$0.00"}]
[{"$nulls":4},{"v":0.25,"d":"$0.25"},null,{"v":0,"d":"$0.00"},null,{"v":0,"d":"$0.00"}]
[{"$nulls":4},{"v":0.25,"d":"$0.25"},null,{"v":0,"d":"$0.00"},null,{"v":0,"d":"$0.00"},null,"Book Value\nTotal"]
[{"$nulls":4},{"v":0.25,"d":"$0.25"},null,{"v":0,"d":"$0.00"},null,{"v":0,"d":"$0.00"}]
[{"$nulls":4},{"v":0.25,"d":"$0.25"},null,{"v":0,"d":"$0.00"},null,{"v":0,"d":"$0.00"},null,{"$f":"SUM(I2:I11)","v":{"v":0,"d":"$0.00"}}]
[{"$nulls":4},{"v":0.25,"d":"$0.25"},null,{"v":0,"d":"$0.00"},null,{"v":0,"d":"$0.00"}]
[{"$nulls":5},{"$f":"SUM(F2:F11)","v":0}]

{"sheet":"Half Dollars","index":13,"n_rows":12,"n_cols":11,"rows_kept":12,"merged":[[2,10,3,11],[4,10,5,11],[7,10,8,11],[9,10,10,11]]}
["Year","Mint","Type","Comment","Face Value","Count","Total","Book Value","Total"]
[{"$nulls":4},{"v":0.5,"d":"$0.50"},null,{"$f":"SUM(E2*F2)","v":{"v":0,"d":"$0.00"}},null,{"$f":"SUM(H2*F2)","v":{"v":0,"d":"$0.00"}}]
[{"$nulls":4},{"v":0.5,"d":"$0.50"},null,{"v":0,"d":"$0.00"},null,{"v":0,"d":"$0.00"},null,"Face Value\nTotals"]
[{"$nulls":4},{"v":0.5,"d":"$0.50"},null,{"v":0,"d":"$0.00"},null,{"v":0,"d":"$0.00"}]
[{"$nulls":4},{"v":0.5,"d":"$0.50"},null,{"v":0,"d":"$0.00"},null,{"v":0,"d":"$0.00"},null,{"$f":"SUM(G2:G11)","v":{"v":0,"d":"$0.00"}}]
[{"$nulls":4},{"v":0.5,"d":"$0.50"},null,{"v":0,"d":"$0.00"},null,{"v":0,"d":"$0.00"}]
[{"$nulls":4},{"v":0.5,"d":"$0.50"},null,{"v":0,"d":"$0.00"},null,{"v":0,"d":"$0.00"}]
[{"$nulls":4},{"v":0.5,"d":"$0.50"},null,{"v":0,"d":"$0.00"},null,{"v":0,"d":"$0.00"},null,"Book Value\nTotal"]
[{"$nulls":4},{"v":0.5,"d":"$0.50"},null,{"v":0,"d":"$0.00"},null,{"v":0,"d":"$0.00"}]
[{"$nulls":4},{"v":0.5,"d":"$0.50"},null,{"v":0,"d":"$0.00"},null,{"v":0,"d":"$0.00"},null,{"$f":"SUM(I2:I11)","v":{"v":0,"d":"$0.00"}}]
[{"$nulls":4},{"v":0.5,"d":"$0.50"},null,{"v":0,"d":"$0.00"},null,{"v":0,"d":"$0.00"}]
[{"$nulls":5},{"$f":"SUM(F2:F11)","v":0}]

{"sheet":"Dollars","index":14,"n_rows":12,"n_cols":11,"rows_kept":12,"merged":[[2,10,3,11],[4,10,5,11],[7,10,8,11],[9,10,10,11]]}
["Year","Mint","Type","Comment","Face Value","Count","Total","Book Value","Total"]
[{"$nulls":4},{"v":1,"d":"$1.00"},null,{"$f":"SUM(E2*F2)","v":{"v":0,"d":"$0.00"}},null,{"$f":"SUM(H2*F2)","v":{"v":0,"d":"$0.00"}}]
[{"$nulls":4},{"v":1,"d":"$1.00"},null,{"$f":"SUM(E3*F3)","v":{"v":0,"d":"$0.00"}},null,{"$f":"SUM(H3*F3)","v":{"v":0,"d":"$0.00"}},null,"Face Value\nTotals"]
[{"$nulls":4},{"v":1,"d":"$1.00"},null,{"v":0,"d":"$0.00"},null,{"v":0,"d":"$0.00"}]
[{"$nulls":4},{"v":1,"d":"$1.00"},null,{"v":0,"d":"$0.00"},null,{"v":0,"d":"$0.00"},null,{"$f":"SUM(G2:G11)","v":{"v":0,"d":"$0.00"}}]
[{"$nulls":4},{"v":1,"d":"$1.00"},null,{"v":0,"d":"$0.00"},null,{"v":0,"d":"$0.00"}]
[{"$nulls":4},{"v":1,"d":"$1.00"},null,{"v":0,"d":"$0.00"},null,{"v":0,"d":"$0.00"}]
[{"$nulls":4},{"v":1,"d":"$1.00"},null,{"v":0,"d":"$0.00"},null,{"v":0,"d":"$0.00"},null,"Book Value\nTotal"]
[{"$nulls":4},{"v":1,"d":"$1.00"},null,{"v":0,"d":"$0.00"},null,{"v":0,"d":"$0.00"}]
[{"$nulls":4},{"v":1,"d":"$1.00"},null,{"v":0,"d":"$0.00"},null,{"v":0,"d":"$0.00"},null,{"$f":"SUM(I2:I11)","v":{"v":0,"d":"$0.00"}}]
[{"$nulls":4},{"v":1,"d":"$1.00"},null,{"v":0,"d":"$0.00"},null,{"v":0,"d":"$0.00"}]
[{"$nulls":5},{"$f":"SUM(F2:F11)","v":0}]

{"sheet":"Other","index":15,"n_rows":12,"n_cols":11,"rows_kept":12,"merged":[[2,10,3,11],[4,10,5,11],[7,10,8,11],[9,10,10,11]]}
["Year","Mint","Type","Comment","Face Value","Count","Total","Book Value","Total"]
[{"$nulls":4},{"v":0,"d":"$0.00"},null,{"$f":"SUM(E2*F2)","v":{"v":0,"d":"$0.00"}},null,{"$f":"SUM(H2*F2)","v":{"v":0,"d":"$0.00"}}]
[{"$nulls":4},{"v":0,"d":"$0.00"},null,{"$f":"SUM(E3*F3)","v":{"v":0,"d":"$0.00"}},null,{"$f":"SUM(H3*F3)","v":{"v":0,"d":"$0.00"}},null,"Face Value\nTotals"]
[{"$nulls":4},{"v":0,"d":"$0.00"},null,{"v":0,"d":"$0.00"},null,{"v":0,"d":"$0.00"}]
[{"$nulls":4},{"v":0.1,"d":"$0.10"},null,{"v":0,"d":"$0.00"},null,{"v":0,"d":"$0.00"},null,{"$f":"SUM(G2:G66)","v":{"v":0,"d":"$0.00"}}]
[{"$nulls":4},{"v":0,"d":"$0.00"},null,{"v":0,"d":"$0.00"},null,{"v":0,"d":"$0.00"}]
[{"$nulls":4},{"v":0,"d":"$0.00"},null,{"v":0,"d":"$0.00"},null,{"v":0,"d":"$0.00"}]
[{"$nulls":4},{"v":0,"d":"$0.00"},null,{"v":0,"d":"$0.00"},null,{"v":0,"d":"$0.00"},null,"Book Value\nTotal"]
[{"$nulls":4},{"v":0,"d":"$0.00"},null,{"v":0,"d":"$0.00"},null,{"v":0,"d":"$0.00"}]
[{"$nulls":4},{"v":0,"d":"$0.00"},null,{"v":0,"d":"$0.00"},null,{"v":0,"d":"$0.00"},null,{"$f":"SUM(I2:I66)","v":{"v":0,"d":"$0.00"}}]
[{"$nulls":4},{"v":0,"d":"$0.00"},null,{"v":0,"d":"$0.00"},null,{"v":0,"d":"$0.00"}]
[{"$nulls":5},{"$f":"SUM(F2:F11)","v":0}]

{"sheet":"Bank Rolls","index":16,"n_rows":12,"n_cols":11,"rows_kept":12,"merged":[[2,10,3,11],[4,10,5,11],[7,10,8,11],[9,10,10,11]]}
["Year","Mint","Type","Comment","Face Value","Count","Total","Book Value","Total"]
[{"$nulls":4},{"v":1,"d":"$1.00"},null,{"$f":"SUM(E2*F2)","v":{"v":0,"d":"$0.00"}},null,{"$f":"SUM(H2*F2)","v":{"v":0,"d":"$0.00"}}]
[{"$nulls":4},{"v":1,"d":"$1.00"},null,{"$f":"SUM(E3*F3)","v":{"v":0,"d":"$0.00"}},null,{"$f":"SUM(H3*F3)","v":{"v":0,"d":"$0.00"}},null,"Face Value\nTotals"]
[{"$nulls":4},{"v":1,"d":"$1.00"},null,{"v":0,"d":"$0.00"},null,{"v":0,"d":"$0.00"}]
[{"$nulls":4},{"v":1,"d":"$1.00"},null,{"v":0,"d":"$0.00"},null,{"v":0,"d":"$0.00"},null,{"$f":"SUM(G2:G11)","v":{"v":0,"d":"$0.00"}}]
[{"$nulls":4},{"v":1,"d":"$1.00"},null,{"v":0,"d":"$0.00"},null,{"v":0,"d":"$0.00"}]
[{"$nulls":4},{"v":1,"d":"$1.00"},null,{"v":0,"d":"$0.00"},null,{"v":0,"d":"$0.00"}]
[{"$nulls":4},{"v":1,"d":"$1.00"},null,{"v":0,"d":"$0.00"},null,{"v":0,"d":"$0.00"},null,"Book Value\nTotal"]
[{"$nulls":4},{"v":1,"d":"$1.00"},null,{"v":0,"d":"$0.00"},null,{"v":0,"d":"$0.00"}]
[{"$nulls":4},{"v":1,"d":"$1.00"},null,{"v":0,"d":"$0.00"},null,{"v":0,"d":"$0.00"},null,{"$f":"SUM(I2:I11)","v":{"v":0,"d":"$0.00"}}]
[{"$nulls":4},{"v":1,"d":"$1.00"},null,{"v":0,"d":"$0.00"},null,{"v":0,"d":"$0.00"}]
[{"$nulls":5},{"$f":"SUM(F2:F11)","v":0}]

{"sheet":"Mint Sets","index":17,"n_rows":12,"n_cols":11,"rows_kept":12,"merged":[[2,10,3,11],[4,10,5,11],[7,10,8,11],[9,10,10,11]]}
["Year","Mint","Type","Comment","Face Value","Count","Total","Book Value","Total"]
[{"$nulls":4},{"v":1,"d":"$1.00"},null,{"$f":"SUM(E2*F2)","v":{"v":0,"d":"$0.00"}},null,{"$f":"SUM(H2*F2)","v":{"v":0,"d":"$0.00"}}]
[{"$nulls":4},{"v":1,"d":"$1.00"},null,{"$f":"SUM(E3*F3)","v":{"v":0,"d":"$0.00"}},null,{"$f":"SUM(H3*F3)","v":{"v":0,"d":"$0.00"}},null,"Face Value\nTotals"]
[{"$nulls":4},{"v":1,"d":"$1.00"},null,{"v":0,"d":"$0.00"},null,{"v":0,"d":"$0.00"}]
[{"$nulls":4},{"v":1,"d":"$1.00"},null,{"v":0,"d":"$0.00"},null,{"v":0,"d":"$0.00"},null,{"$f":"SUM(G2:G11)","v":{"v":0,"d":"$0.00"}}]
[{"$nulls":4},{"v":1,"d":"$1.00"},null,{"v":0,"d":"$0.00"},null,{"v":0,"d":"$0.00"}]
[{"$nulls":4},{"v":1,"d":"$1.00"},null,{"v":0,"d":"$0.00"},null,{"v":0,"d":"$0.00"}]
[{"$nulls":4},{"v":1,"d":"$1.00"},null,{"v":0,"d":"$0.00"},null,{"v":0,"d":"$0.00"},null,"Book Value\nTotal"]
[{"$nulls":4},{"v":1,"d":"$1.00"},null,{"v":0,"d":"$0.00"},null,{"v":0,"d":"$0.00"}]
[{"$nulls":4},{"v":1,"d":"$1.00"},null,{"v":0,"d":"$0.00"},null,{"v":0,"d":"$0.00"},null,{"$f":"SUM(I2:I11)","v":{"v":0,"d":"$0.00"}}]
[{"$nulls":4},{"v":1,"d":"$1.00"},null,{"v":0,"d":"$0.00"},null,{"v":0,"d":"$0.00"}]
[{"$nulls":5},{"$f":"SUM(F2:F11)","v":0}]

{"sheet":"Silver Eagles","index":18,"n_rows":12,"n_cols":11,"rows_kept":12,"merged":[[2,10,3,11],[4,10,5,11],[7,10,8,11],[9,10,10,11]]}
["Year","Mint","Type","Comment","Face Value","Count","Total","Book Value","Total"]
[{"$nulls":4},{"v":1,"d":"$1.00"},null,{"$f":"SUM(E2*F2)","v":{"v":0,"d":"$0.00"}},null,{"$f":"SUM(H2*F2)","v":{"v":0,"d":"$0.00"}}]
[{"$nulls":4},{"v":1,"d":"$1.00"},null,{"$f":"SUM(E3*F3)","v":{"v":0,"d":"$0.00"}},null,{"$f":"SUM(H3*F3)","v":{"v":0,"d":"$0.00"}},null,"Face Value\nTotals"]
[{"$nulls":4},{"v":1,"d":"$1.00"},null,{"v":0,"d":"$0.00"},null,{"v":0,"d":"$0.00"}]
[{"$nulls":4},{"v":1,"d":"$1.00"},null,{"v":0,"d":"$0.00"},null,{"v":0,"d":"$0.00"},null,{"$f":"SUM(G2:G11)","v":{"v":0,"d":"$0.00"}}]
[{"$nulls":4},{"v":1,"d":"$1.00"},null,{"v":0,"d":"$0.00"},null,{"v":0,"d":"$0.00"}]
[{"$nulls":4},{"v":1,"d":"$1.00"},null,{"v":0,"d":"$0.00"},null,{"v":0,"d":"$0.00"}]
[{"$nulls":4},{"v":1,"d":"$1.00"},null,{"v":0,"d":"$0.00"},null,{"v":0,"d":"$0.00"},null,"Book Value\nTotal"]
[{"$nulls":4},{"v":1,"d":"$1.00"},null,{"v":0,"d":"$0.00"},null,{"v":0,"d":"$0.00"}]
[{"$nulls":4},{"v":1,"d":"$1.00"},null,{"v":0,"d":"$0.00"},null,{"v":0,"d":"$0.00"},null,{"$f":"SUM(I2:I11)","v":{"v":0,"d":"$0.00"}}]
[{"$nulls":4},{"v":1,"d":"$1.00"},null,{"v":0,"d":"$0.00"},null,{"v":0,"d":"$0.00"}]
[{"$nulls":5},{"$f":"SUM(F2:F11)","v":0}]